BEGIN:VCALENDAR
VERSION:2.0
PRODID:-//Teatr Ateneum w Katowicach - ECPv5.1.0//NONSGML v1.0//EN
CALSCALE:GREGORIAN
METHOD:PUBLISH
X-WR-CALNAME:Teatr Ateneum w Katowicach
X-ORIGINAL-URL:https://ateneumteatr.pl
X-WR-CALDESC:Wydarzenia na Teatr Ateneum w Katowicach
BEGIN:VTIMEZONE
TZID:Europe/Warsaw
BEGIN:DAYLIGHT
TZOFFSETFROM:+0100
TZOFFSETTO:+0200
TZNAME:CEST
DTSTART:20190331T010000
END:DAYLIGHT
BEGIN:STANDARD
TZOFFSETFROM:+0200
TZOFFSETTO:+0100
TZNAME:CET
DTSTART:20191027T010000
END:STANDARD
END:VTIMEZONE
BEGIN:VEVENT
DTSTART;TZID=Europe/Warsaw:20191013T113000
DTEND;TZID=Europe/Warsaw:20191013T113000
DTSTAMP:20260421T051621
CREATED:20190930T131352Z
LAST-MODIFIED:20190930T133800Z
UID:11020-1570966200-1570966200@ateneumteatr.pl
SUMMARY:Animacje-spektakl familijny
DESCRIPTION:
URL:https://ateneumteatr.pl/event/animacje-spektakl-familijny-2/
LOCATION:Galeria Ateneum\, ul. 3 Maja 25\, 40-097 Katowice
END:VEVENT
END:VCALENDAR