BEGIN:VCALENDAR
VERSION:2.0
PRODID:-//Teatr Ateneum w Katowicach - ECPv5.1.0//NONSGML v1.0//EN
CALSCALE:GREGORIAN
METHOD:PUBLISH
X-WR-CALNAME:Teatr Ateneum w Katowicach
X-ORIGINAL-URL:https://ateneumteatr.pl
X-WR-CALDESC:Wydarzenia na Teatr Ateneum w Katowicach
BEGIN:VTIMEZONE
TZID:Europe/Warsaw
BEGIN:DAYLIGHT
TZOFFSETFROM:+0100
TZOFFSETTO:+0200
TZNAME:CEST
DTSTART:20190331T010000
END:DAYLIGHT
BEGIN:STANDARD
TZOFFSETFROM:+0200
TZOFFSETTO:+0100
TZNAME:CET
DTSTART:20191027T010000
END:STANDARD
END:VTIMEZONE
BEGIN:VEVENT
DTSTART;TZID=Europe/Warsaw:20190519T160000
DTEND;TZID=Europe/Warsaw:20190519T160000
DTSTAMP:20260421T134813
CREATED:20190319T144428Z
LAST-MODIFIED:20190508T112229Z
UID:8986-1558281600-1558281600@ateneumteatr.pl
SUMMARY:Ile żab waży księżyc
DESCRIPTION:Spektakl grany w ramach piątej edycji Dnia Teatru Publicznego oraz towarzyszącej mu akcji „Bilet do teatru za 350 groszy”. Wydarzenie dofinansowane ze środków Ministra Kultury i Dziedzictwa Narodowego\, a koordynowane przez Instytut Teatralny im. Zbigniewa Raszewskiego.  \nUWAGA! \n– sprzedaż biletów po 350 groszy wyłącznie 18 maja od godz. 15.00 \n– będzie je można kupić tylko w kasie Teatru \n– nie będą sprzedawane przez Internet \n– nie ma możliwości wcześniejszej rezerwacji \n– Teatr ma prawo sprzedać jednej osobie maksymalnie 4 bilety. \n
URL:https://ateneumteatr.pl/event/ile-zab-wazy-ksiezyc-3-2-2-2/
LOCATION:Scena Ateneum\, ul. Św. Jana 10\, 40-012 Katowice
END:VEVENT
END:VCALENDAR