BEGIN:VCALENDAR
VERSION:2.0
PRODID:-//Teatr Ateneum w Katowicach - ECPv5.1.0//NONSGML v1.0//EN
CALSCALE:GREGORIAN
METHOD:PUBLISH
X-WR-CALNAME:Teatr Ateneum w Katowicach
X-ORIGINAL-URL:https://ateneumteatr.pl
X-WR-CALDESC:Wydarzenia na Teatr Ateneum w Katowicach
BEGIN:VTIMEZONE
TZID:Europe/Warsaw
BEGIN:DAYLIGHT
TZOFFSETFROM:+0100
TZOFFSETTO:+0200
TZNAME:CEST
DTSTART:20190331T010000
END:DAYLIGHT
BEGIN:STANDARD
TZOFFSETFROM:+0200
TZOFFSETTO:+0100
TZNAME:CET
DTSTART:20191027T010000
END:STANDARD
END:VTIMEZONE
BEGIN:VEVENT
DTSTART;TZID=Europe/Warsaw:20191109T210000
DTEND;TZID=Europe/Warsaw:20191109T210000
DTSTAMP:20260421T051811
CREATED:20191018T120039Z
LAST-MODIFIED:20191108T132707Z
UID:11092-1573333200-1573333200@ateneumteatr.pl
SUMMARY:Ja – Robak\, warsztaty plastyczne  – Noc Teatrów Metropolii
DESCRIPTION:Warsztaty plastyczne dla młodzieży i dorosłych pozwalające rozwinąć umiejętności tworzenia rekwizytów i kostiumów.\nprowadzenie zajęć: Daniel Szymański\, Katarzyna Żagiell-Kubik \nWstęp na warsztaty bezpłatny  \nLiczba miejsc ograniczona\nObowiązują zapisy:  dow@ateneumteatr.pl \, tel. 32 2537779 i 32 6029256  \n
URL:https://ateneumteatr.pl/event/ja-robak-warsztaty-plastyczne-noc-teatrow-metropolii/
LOCATION:Scena Ateneum\, ul. Św. Jana 10\, 40-012 Katowice
END:VEVENT
END:VCALENDAR