BEGIN:VCALENDAR
VERSION:2.0
PRODID:-//Teatr Ateneum w Katowicach - ECPv5.1.0//NONSGML v1.0//EN
CALSCALE:GREGORIAN
METHOD:PUBLISH
X-WR-CALNAME:Teatr Ateneum w Katowicach
X-ORIGINAL-URL:https://ateneumteatr.pl
X-WR-CALDESC:Wydarzenia na Teatr Ateneum w Katowicach
BEGIN:VTIMEZONE
TZID:Europe/Warsaw
BEGIN:DAYLIGHT
TZOFFSETFROM:+0100
TZOFFSETTO:+0200
TZNAME:CEST
DTSTART:20190331T010000
END:DAYLIGHT
BEGIN:STANDARD
TZOFFSETFROM:+0200
TZOFFSETTO:+0100
TZNAME:CET
DTSTART:20191027T010000
END:STANDARD
END:VTIMEZONE
BEGIN:VEVENT
DTSTART;TZID=Europe/Warsaw:20191123T160000
DTEND;TZID=Europe/Warsaw:20191123T160000
DTSTAMP:20260421T034617
CREATED:20190918T101313Z
LAST-MODIFIED:20191025T134010Z
UID:10773-1574524800-1574524800@ateneumteatr.pl
SUMMARY:O Królewnie Wełence - spektakl ODWOŁANY
DESCRIPTION:Drodzy Widzowie!\nInformujemy\, że spektakl „O Królewnie Wełence” dnia 23 listopada o godz. 16.00 został ODWOŁANY.\nProsimy osoby\, które zakupiły bilety o kontakt z kasą teatru. \n
URL:https://ateneumteatr.pl/event/o-krolewnie-welence-3-2-2-2-2-2-2/
LOCATION:Scena Ateneum\, ul. Św. Jana 10\, 40-012 Katowice
END:VEVENT
END:VCALENDAR