BEGIN:VCALENDAR
VERSION:2.0
PRODID:-//Teatr Ateneum w Katowicach - ECPv5.1.0//NONSGML v1.0//EN
CALSCALE:GREGORIAN
METHOD:PUBLISH
X-WR-CALNAME:Teatr Ateneum w Katowicach
X-ORIGINAL-URL:https://ateneumteatr.pl
X-WR-CALDESC:Wydarzenia na Teatr Ateneum w Katowicach
BEGIN:VTIMEZONE
TZID:Europe/Warsaw
BEGIN:DAYLIGHT
TZOFFSETFROM:+0100
TZOFFSETTO:+0200
TZNAME:CEST
DTSTART:20180325T010000
END:DAYLIGHT
BEGIN:STANDARD
TZOFFSETFROM:+0200
TZOFFSETTO:+0100
TZNAME:CET
DTSTART:20181028T010000
END:STANDARD
END:VTIMEZONE
BEGIN:VEVENT
DTSTART;TZID=Europe/Warsaw:20180929T210000
DTEND;TZID=Europe/Warsaw:20180929T210000
DTSTAMP:20260422T030923
CREATED:20180901T120609Z
LAST-MODIFIED:20181004T110154Z
UID:2796-1538254800-1538254800@ateneumteatr.pl
SUMMARY:Antoni Czechow: Oświadczyny. Niedźwiedź - czytanie performatywne dla dorosłych
DESCRIPTION:przekład: Artur Sandauer (Oświadczyny)\, Jerzy Wyszomirski (Niedźwiedź)\nreżyseria: Paweł Szumiec\naktorzy: Aleksandra Zawalska\, Beata Zawiślak\, Marek Dindorf\, Grzegorz Eckert\,\nPiotr Janiszewski \n  \nDwie jednoaktówki Czechowa\, nazwane przez autora żartami scenicznymi\, to niezwykle zabawne humoreski obyczajowe; zawarta w nich satyra na ludzkie wady wciąż zadziwia aktualnością. Oba teksty łączy temat uczucia rodzącego się w atmosferze konfliktu. \nNapisane znakomitym językiem\, stanowią atrakcyjny materiał na czytanie performatywne – coraz popularniejszą formę teatralną\, mieszczącą się pomiędzy próbą stolikową a sytuacyjną. Znajdziemy tu wszystkie rodzaje komizmu – zarówno postaci\, sytuacje jak i dialogi bohaterów wywołują salwy szczerego śmiechu na widowni. \nBezpłatne wejściówki na spektakl do odebrania od 12 września w kasie Teatru Ateneum\, ul. Św. Jana 10. \nPomysłodawcą i inicjatorem Nocy Teatrów Metropolii jest Górnośląsko-Zagłębiowska Metropolia \n  \n \n
URL:https://ateneumteatr.pl/event/oswiadczyny-niedzwiedz-antoni-czechow-czytanie-performatywne-dla-doroslych/
LOCATION:Galeria Ateneum\, ul. 3 Maja 25\, 40-097 Katowice
ATTACH;FMTTYPE=image/jpeg:https://ateneumteatr.pl/wp-content/uploads/2018/08/czechow2.jpg
END:VEVENT
END:VCALENDAR