BEGIN:VCALENDAR
VERSION:2.0
PRODID:-//Teatr Ateneum w Katowicach - ECPv5.1.0//NONSGML v1.0//EN
CALSCALE:GREGORIAN
METHOD:PUBLISH
X-WR-CALNAME:Teatr Ateneum w Katowicach
X-ORIGINAL-URL:https://ateneumteatr.pl
X-WR-CALDESC:Wydarzenia na Teatr Ateneum w Katowicach
BEGIN:VTIMEZONE
TZID:Europe/Warsaw
BEGIN:DAYLIGHT
TZOFFSETFROM:+0100
TZOFFSETTO:+0200
TZNAME:CEST
DTSTART:20180325T010000
END:DAYLIGHT
BEGIN:STANDARD
TZOFFSETFROM:+0200
TZOFFSETTO:+0100
TZNAME:CET
DTSTART:20181028T010000
END:STANDARD
END:VTIMEZONE
BEGIN:VEVENT
DTSTART;TZID=Europe/Warsaw:20181018T200000
DTEND;TZID=Europe/Warsaw:20181018T200000
DTSTAMP:20260421T155407
CREATED:20180913T125704Z
LAST-MODIFIED:20180914T124931Z
UID:3425-1539892800-1539892800@ateneumteatr.pl
SUMMARY:Relikwiarz - spektakl dla młodzieży i dorosłych
DESCRIPTION:
URL:https://ateneumteatr.pl/event/relikwiarz-spektakl-dla-mlodziezy-i-doroslych/
LOCATION:Galeria Ateneum\, ul. 3 Maja 25\, 40-097 Katowice
END:VEVENT
END:VCALENDAR