BEGIN:VCALENDAR
VERSION:2.0
PRODID:-//Teatr Ateneum w Katowicach - ECPv5.1.0//NONSGML v1.0//EN
CALSCALE:GREGORIAN
METHOD:PUBLISH
X-WR-CALNAME:Teatr Ateneum w Katowicach
X-ORIGINAL-URL:https://ateneumteatr.pl
X-WR-CALDESC:Wydarzenia na Teatr Ateneum w Katowicach
BEGIN:VTIMEZONE
TZID:Europe/Warsaw
BEGIN:DAYLIGHT
TZOFFSETFROM:+0100
TZOFFSETTO:+0200
TZNAME:CEST
DTSTART:20190331T010000
END:DAYLIGHT
BEGIN:STANDARD
TZOFFSETFROM:+0200
TZOFFSETTO:+0100
TZNAME:CET
DTSTART:20191027T010000
END:STANDARD
END:VTIMEZONE
BEGIN:VEVENT
DTSTART;TZID=Europe/Warsaw:20190915T123000
DTEND;TZID=Europe/Warsaw:20190915T123000
DTSTAMP:20260421T071033
CREATED:20190812T135345Z
LAST-MODIFIED:20190812T135407Z
UID:10590-1568550600-1568550600@ateneumteatr.pl
SUMMARY:Spacerownik bogucicki
DESCRIPTION:OBOWIĄZUJE REZERWACJA MIEJSC w Kasie Teatru (ul. Św. Jana 10) od dnia 3.09.2019\nw godz. 9:00-13:00 oraz 14:00-16:00\, tel. 32 253 77 79.\nUdział w spacerach jest bezpłatny. Liczba miejsc ograniczona. \n
URL:https://ateneumteatr.pl/event/spacerownik-bogucicki/
END:VEVENT
END:VCALENDAR