BEGIN:VCALENDAR
VERSION:2.0
PRODID:-//Teatr Ateneum w Katowicach - ECPv5.1.0//NONSGML v1.0//EN
CALSCALE:GREGORIAN
METHOD:PUBLISH
X-WR-CALNAME:Teatr Ateneum w Katowicach
X-ORIGINAL-URL:https://ateneumteatr.pl
X-WR-CALDESC:Wydarzenia na Teatr Ateneum w Katowicach
BEGIN:VTIMEZONE
TZID:Europe/Warsaw
BEGIN:DAYLIGHT
TZOFFSETFROM:+0100
TZOFFSETTO:+0200
TZNAME:CEST
DTSTART:20180325T010000
END:DAYLIGHT
BEGIN:STANDARD
TZOFFSETFROM:+0200
TZOFFSETTO:+0100
TZNAME:CET
DTSTART:20181028T010000
END:STANDARD
END:VTIMEZONE
BEGIN:VEVENT
DTSTART;TZID=Europe/Warsaw:20180928T160000
DTEND;TZID=Europe/Warsaw:20180928T200000
DTSTAMP:20260422T011702
CREATED:20180803T152835Z
LAST-MODIFIED:20180924T074242Z
UID:2805-1538150400-1538164800@ateneumteatr.pl
SUMMARY:Warsztaty dla nauczycieli (do spektaklu pt. "Piaskowy Wilk")
DESCRIPTION:W ramach projektu „EduAkacja – Teatr wzmacnia!” zapraszamy nauczycieli\, pedagogów oraz inne osoby pracujące w placówkach oświatowych i szkolno-wychowawczych na warsztaty zainspirowane spektaklami z repertuaru naszego Teatru. Podczas warsztatów zaprezentujemy kilka pomysłów na to\, jak zaprojektować  zajęcia towarzyszące wizycie w teatrze. Warsztaty do każdego ze spektakli są prowadzone w taki sposób\, żeby przybliżać zarówno tematykę\, jak i formę przedstawienia. Udział w warsztatach jest odpłatny – 20 zł/osobę. \na) 28.09.2018\, godz. 16.00-20.00: „Świat oczami dziecka”\nProwadząca: Dominika Górecka\nPiaskowy Wilk uwielbia trudne pytania\, a już najbardziej pytanie: dlaczego? Będzie ono punktem wyjścia do warsztatów na temat postrzegania świata przez dzieci  i co z tego\, dla nas wszystkich\, wynika. Podczas warsztatów będziemy ćwiczyć myślenie – wykorzystując zabawy ze słowami\, dźwiękami i ruchem.\nb) 29.09.2018\, godz. 9.00-16.00: „Lalki mojej wyobraźni”\nProwadząca: Beata Zawiślak\nInspirując się formą „Piaskowego Wilka” dowiemy się\, w jaki sposób wykorzystywać lalki w działaniach twórczych z dziećmi. Spotkanie będzie skupione na zabawach z zakresu animacji przedmiotu oraz prostych działaniach aktorskich z wykorzystaniem form lalkowych. \nŻeby wziąć udział w projekcie należy wypełnić kartę zgłoszenia\, a następnie wysłać ją e-mailem na adres: edukacja@ateneumteatr.pl lub dostarczyć ją w zamkniętej kopercie z dopiskiem „EduAkcja – warsztaty dla nauczycieli” do Działu Organizacji Widowni – ul. św. Jana 10\, 40-012 Katowice. Zgłoszenie można dostarczyć do dnia 17.09.2018 (decyduje data wpłynięcia dokumentów). \nSzczegóły na temat projektu: https://ateneumteatr.pl/2378/ \nKarta zgłoszenia: warsztaty dla nauczycieli – karta zgłoszenia \nDodatkowe informacje:  Anna Nowak\, edukacja@ateneumteatr.pl\, tel. 32 602 92 72\, 505 360 244 \nPROWADZĄCY ZAJĘCIA:\nDOMINIKA GÓRECKA – pedagog teatru i tłumaczka literatury szwedzkiej. Studiowała filologię szwedzką w Poznaniu\, literaturoznawstwo w Göteborgu\, przekład literacki w Sztokholmie oraz pedagogikę teatru w Warszawie. Naukowo zajmuje się szwedzkim teatrem i dramatem współczesnym\, zwłaszcza teatrem dla dzieci i młodzieży\, prowadzi zajęcia na Uniwersytecie Humanistycznospołecznym SWPS w Warszawie. \nBEATA ZAWIŚLAK – aktorka Śląskiego Teatru Lalki i Aktora „Ateneum” w Katowicach\, współpracuję z Teatrem Gry i Ludzie. Prowadziła zajęcia teatralne w domach kultury\, warsztaty teatralne\, jest wykładowcą Uniwersytetu Śląskiego Dzieci w Katowicach. Współtwórczyni Małej Akademii Teatralnej – cyklu spektakli edukacyjnych skierowanych do najmłodszego widza. Współpracuje ze Stowarzyszeniem “Uskrzydlamy”\, w którym prowadzi warsztaty teatralne z  młodzieżą. \n  \nProjekt dofinansowano ze środków Ministra Kultury i Dziedzictwa Narodowego w ramach programu „Edukacja kulturalna”. \n \n
URL:https://ateneumteatr.pl/event/warsztaty-dla-nauczycieli-do-spektaklu-pt-piaskowy-wilk/
ATTACH;FMTTYPE=image/jpeg:https://ateneumteatr.pl/wp-content/uploads/2018/07/Edu-1.jpg
END:VEVENT
END:VCALENDAR