BEGIN:VCALENDAR
VERSION:2.0
PRODID:-//Teatr Ateneum w Katowicach - ECPv5.1.0//NONSGML v1.0//EN
CALSCALE:GREGORIAN
METHOD:PUBLISH
X-WR-CALNAME:Teatr Ateneum w Katowicach
X-ORIGINAL-URL:https://ateneumteatr.pl
X-WR-CALDESC:Wydarzenia na Teatr Ateneum w Katowicach
BEGIN:VTIMEZONE
TZID:Europe/Warsaw
BEGIN:DAYLIGHT
TZOFFSETFROM:+0100
TZOFFSETTO:+0200
TZNAME:CEST
DTSTART:20180325T010000
END:DAYLIGHT
BEGIN:STANDARD
TZOFFSETFROM:+0200
TZOFFSETTO:+0100
TZNAME:CET
DTSTART:20181028T010000
END:STANDARD
END:VTIMEZONE
BEGIN:VEVENT
DTSTART;VALUE=DATE:20181116
DTEND;VALUE=DATE:20181118
DTSTAMP:20260421T112626
CREATED:20180803T154305Z
LAST-MODIFIED:20180803T154347Z
UID:2810-1542326400-1542499199@ateneumteatr.pl
SUMMARY:Warsztaty dla nauczycieli (do spektaklu pt. "Tylko jeden dzień")
DESCRIPTION:W ramach projektu „EduAkacja – Teatr wzmacnia!” zapraszamy nauczycieli\, pedagogów oraz inne osoby pracujące w placówkach oświatowych i szkolno-wychowawczych na warsztaty zainspirowane spektaklami z repertuaru naszego Teatru. Podczas warsztatów zaprezentujemy kilka pomysłów na to\, jak zaprojektować  zajęcia towarzyszące wizycie w teatrze. Warsztaty do każdego ze spektakli są prowadzone w taki sposób\, żeby przybliżać zarówno tematykę\, jak i formę przedstawienia. Udział w warsztatach jest odpłatny – 20 zł/osobę. \na) 16.11.2018\, godz. 16.00-20.00: „Jak rozmawiać z dziećmi o przemijaniu?”\nProwadząca: Aleksandra Rajska\nSpektakl „Tylko jeden dzień”\, jest doskonałym punktem wyjścia do poruszenia z dziećmi tematu kruchości życia. Nasze spotkanie będzie okazją do podjęcia rozmowy na temat przemijania\, ale w sposób bezpieczny dla uczestników\, poprzez dostrzeganie piękna i wartości życia. Podczas warsztatów sięgniemy po różne techniki arteterapeutyczne\, które pomogą nam w rozmowie z dziećmi.\nb) 17.11.2018\, godz. 10.00-16.00: „Teatr to…”\nProwadząca: Katarzyna Prudło\nCo jest potrzebne do tego\, żeby powstał teatr? Oglądając spektakl „Tylko jeden dzień” przekonujemy się\, że jesteśmy w stanie wykreować świat sceniczny korzystając z bogatej gry aktorskiej oraz umownej oprawy plastycznej. Zajęcia mają pokazać\, jak pobudzać wyobraźnię teatralną najmłodszych i uczyć ich rozumienia teatru\, w którym korzystamy z metafory. \nŻeby wziąć udział w projekcie należy wypełnić kartę zgłoszenia\, a następnie wysłać ją e-mailem na adres: edukacja@ateneumteatr.pl lub dostarczyć ją w zamkniętej kopercie z dopiskiem „EduAkcja – warsztaty dla nauczycieli” do Działu Organizacji Widowni – ul. św. Jana 10\, 40-012 Katowice. \nKARTA ZGŁOSZENIA: warsztaty dla nauczycieli – karta zgłoszenia \nSzczegóły na temat projektu: https://ateneumteatr.pl/2378/ \nDodatkowe informacje: Anna Nowak\, edukacja@ateneumteatr.pl\, tel. 32 602 92 72\, 505 360 244 \nPROWADZĄCY ZAJĘCIA: \nALEKSANDRA RAJSKA – psycholog\, pedagog teatru\, arteterapeutka Polskiego Instytutu Ericksonowskiego\, wykładowca Społecznej Akademii Nauk w Łodzi\, pracuje w dziale edukacji w Centrum Sztuki Współczesnej Zamek Ujazdowski. Współautorka i instruktorka projektów „Lata w teatrze“ w Bralinie\, Białym Zdroju\, Kaliszu i Zambskach Kościelnych. Jako pedagog teatru współpracowała z Teatrem im. Bogusławskiego w Kaliszu. \nKATARZYNA PRUDŁO – ukończyła filologię polską na Wydziale Filologicznym Uniwersytetu Wrocławskiego oraz Wydział Lalkarski Państwowej Wyższej Szkoły Teatralnej w Krakowie – filia we Wrocławiu. Od 2002 roku aktorka Śląskiego Teatru Lalki i Aktora „Ateneum” w Katowicach. Współpracowała również z Teatrem im. Adama Mickiewicza w Częstochowie oraz katowickim Teatrem Bez Sceny. Autorka kilku tomików wierszy dla dzieci. Współpracuje z Miejską Biblioteką Publiczną w Katowicach – prowadzi warsztaty i spotkania autorskie – oraz kwartetem „Sonos” dla którego pisze scenariusze koncertów dla dzieci. \nProjekt dofinansowano ze środków Ministra Kultury i Dziedzictwa Narodowego w ramach programu „Edukacja kulturalna”. \n \n
URL:https://ateneumteatr.pl/event/warsztaty-dla-nauczycieli-do-spektaklu-pt-tylko-jeden-dzien/
ATTACH;FMTTYPE=image/jpeg:https://ateneumteatr.pl/wp-content/uploads/2018/06/Eduakcja-str-inter-1.jpg
END:VEVENT
END:VCALENDAR