BEGIN:VCALENDAR
VERSION:2.0
PRODID:-//Teatr Ateneum w Katowicach - ECPv5.1.0//NONSGML v1.0//EN
CALSCALE:GREGORIAN
METHOD:PUBLISH
X-WR-CALNAME:Teatr Ateneum w Katowicach
X-ORIGINAL-URL:https://ateneumteatr.pl
X-WR-CALDESC:Wydarzenia na Teatr Ateneum w Katowicach
BEGIN:VTIMEZONE
TZID:Europe/Warsaw
BEGIN:DAYLIGHT
TZOFFSETFROM:+0100
TZOFFSETTO:+0200
TZNAME:CEST
DTSTART:20210328T010000
END:DAYLIGHT
BEGIN:STANDARD
TZOFFSETFROM:+0200
TZOFFSETTO:+0100
TZNAME:CET
DTSTART:20211031T010000
END:STANDARD
END:VTIMEZONE
BEGIN:VEVENT
DTSTART;TZID=Europe/Warsaw:20211030T110000
DTEND;TZID=Europe/Warsaw:20211030T110000
DTSTAMP:20260421T100139
CREATED:20211007T124244Z
LAST-MODIFIED:20211007T124244Z
UID:16683-1635591600-1635591600@ateneumteatr.pl
SUMMARY:Wielkie Gorące Szybkie Puff – w ramach Programu Teatr Polska 2021
DESCRIPTION:Sprzedaż biletów na to wydarzenie prowadzi Babiogórskie Centrum Kultury.\n \n
URL:https://ateneumteatr.pl/event/wielkie-gorace-szybkie-puff-w-ramach-programu-teatr-polska-2021-2-2-2-2-2-2-2-2-2-2-2/
LOCATION:Babiogórskie Centrum Kultury\, Zawoja; 1476\, Zawoja\, 34-222
END:VEVENT
END:VCALENDAR